BEGIN:VCALENDAR
X-WR-TIMEZONE:Europe/Berlin
X-WR-CALNAME:rbb-Kalender
VERSION:2.0
METHOD:PUBLISH
CALSCALE:GREGORIAN
PRODID:rbb-CMS DAY
BEGIN:VEVENT
CLASS:PUBLIC
URL:http://www.rbb-online.de/content/rbb/rbb/16xdeutschland/archiv/bremen.html
DTEND:20131006T173000
DTSTART:20131006T173000
UID:/content/rbb/rbb/16xdeutschland/archiv/bremen
DTSTAMP:20140407T122231
DESCRIPTION:Warum ist das kleine Bremen eigentlich ein unabhängiges, eigenes Bundesland? Dieser Frage widmet sich der 1981 in Bremen-Gröpelingen geborene und in Bremen-Vegesack aufgewachsene Satiriker und Hobbyhistoriker Jan Böhmermann.\n
SUMMARY:Bremen
END:VEVENT
END:VCALENDAR
