BEGIN:VCALENDAR
X-WR-TIMEZONE:Europe/Berlin
X-WR-CALNAME:rbb-Kalender
VERSION:2.0
METHOD:PUBLISH
CALSCALE:GREGORIAN
PRODID:rbb-CMS DAY
BEGIN:VEVENT
CLASS:PUBLIC
URL:http://www.rbb-online.de/content/rbb/rbb/16xdeutschland/archiv/rheinland-pfalz.html
DTEND:20131006T171500
DTSTART:20131006T171500
UID:/content/rbb/rbb/16xdeutschland/archiv/rheinland-pfalz
DTSTAMP:20140407T122242
DESCRIPTION:Zwei große Wirtschaftszweige prägen Rheinland-Pfalz: der Weinbau und die chemische Industrie, die sich am Rheinufer angesiedelt hat. Die Skyline der Industriebauten und die idyllisch wirkenden Weinberge - auf den ersten Blick zwei Arbeitswelten, die unterschiedlicher nicht sein könnten. Was verbindet sie dennoch?\n
SUMMARY:Rheinland-Pfalz
END:VEVENT
END:VCALENDAR
