BEGIN:VCALENDAR
X-WR-TIMEZONE:Europe/Berlin
X-WR-CALNAME:rbb-Kalender
VERSION:2.0
METHOD:PUBLISH
CALSCALE:GREGORIAN
PRODID:rbb-CMS DAY
BEGIN:VEVENT
CLASS:PUBLIC
URL:http://www.rbb-online.de/content/rbb/rbb/30favoriten/archiv/30_geheimnisvolle/30_geheimnisvolle.html
DTEND:20130906T201500
DTSTART:20130906T201500
UID:/content/rbb/rbb/30favoriten/archiv/30_geheimnisvolle/30_geheimnisvolle
DTSTAMP:20140406T075124
DESCRIPTION:Abseits berühmter Bauwerke, wie dem Brandenburger Tor oder dem Fernsehturm, hat Berlin auch Sehenswürdigkeiten zu bieten, die kaum jemand näher kennt.\n
SUMMARY:30 geheimnisvolle Berliner Häuser
END:VEVENT
END:VCALENDAR
