BEGIN:VCALENDAR
X-WR-TIMEZONE:Europe/Berlin
X-WR-CALNAME:rbb-Kalender
VERSION:2.0
METHOD:PUBLISH
CALSCALE:GREGORIAN
PRODID:rbb-CMS DAY
BEGIN:VEVENT
CLASS:PUBLIC
URL:http://www.rbb-online.de/content/rbb/rbb/30favoriten/archiv/30_x_sehenswertes/30_x_sehenswertes.html
DTEND:20130705T201500
DTSTART:20130705T201500
UID:/content/rbb/rbb/30favoriten/archiv/30_x_sehenswertes/30_x_sehenswertes
DTSTAMP:20140406T075111
DESCRIPTION:Brandenburg - das Ausflugsland! Nicht nur Einheimische und Störche fühlen sich hier wohl, auch Touristen kommen immer wieder gern hierher.
SUMMARY:Die 30 schönsten Brandenburger Ausflugsziele
END:VEVENT
END:VCALENDAR
