BEGIN:VCALENDAR
X-WR-TIMEZONE:Europe/Berlin
X-WR-CALNAME:rbb-Kalender
VERSION:2.0
METHOD:PUBLISH
CALSCALE:GREGORIAN
PRODID:rbb-CMS DAY
BEGIN:VEVENT
CLASS:PUBLIC
URL:http://www.rbb-online.de/content/rbb/rbb/30favoriten/archiv/die-30-spannendsten-berliner-erfindungen-/Die_30_spannendsten_Berliner_Erfindungen.html
DTEND:20140404T201500
DTSTART:20140404T201500
UID:/content/rbb/rbb/30favoriten/archiv/die-30-spannendsten-berliner-erfindungen-/Die_30_spannendsten_Berliner_Erfindungen
DTSTAMP:20140404T082425
DESCRIPTION:Der Computer, das Kondom oder die Litfaßsäule, das sind Berliner Erfindungen, die die Welt revolutioniert haben. Fast 1000 Patente werden in der Hauptstadt der Erfinder und Tüftler jedes Jahr angemeldet.\n
SUMMARY:Die 30 spannendsten Berliner Erfindungen
END:VEVENT
END:VCALENDAR
