BEGIN:VCALENDAR
X-WR-TIMEZONE:Europe/Berlin
X-WR-CALNAME:rbb-Kalender
VERSION:2.0
METHOD:PUBLISH
CALSCALE:GREGORIAN
PRODID:rbb-CMS DAY
BEGIN:VEVENT
CLASS:PUBLIC
URL:http://www.rbb-online.de/content/rbb/rbb/30favoriten/archiv/die-30-tollsten-brandenburger-feste/die_30_tollsten_Brandenburger_Feste.html
DTEND:20140328T201500
DTSTART:20140328T201500
UID:/content/rbb/rbb/30favoriten/archiv/die-30-tollsten-brandenburger-feste/die_30_tollsten_Brandenburger_Feste
DTSTAMP:20140405T045314
DESCRIPTION:Man muss die Feste feiern, wie sie fallen. Das lassen sich die Brandenburger nicht zweimal sagen. Egal ob Ritterfest oder Rockfestival, Flotten- oder Hengstparade, Storchen-, Trachten- oder Sängerfest – an Gelegenheiten fehlt es nicht, und bei jährlich 10 000 Events kommt wohl jeder auf seine Kosten.\n
SUMMARY:Die 30 tollsten Brandenburger Feste
END:VEVENT
END:VCALENDAR
