BEGIN:VCALENDAR
X-WR-TIMEZONE:Europe/Berlin
X-WR-CALNAME:rbb-Kalender
VERSION:2.0
METHOD:PUBLISH
CALSCALE:GREGORIAN
PRODID:rbb-CMS DAY
BEGIN:VEVENT
CLASS:PUBLIC
URL:http://www.rbb-online.de/content/rbb/rbb/30favoriten/archiv/die_30_tollsten_berliner/die_30_tollsten_berliner.html
DTEND:20131004T201500
DTSTART:20131004T201500
UID:/content/rbb/rbb/30favoriten/archiv/die_30_tollsten_berliner/die_30_tollsten_berliner
DTSTAMP:20140405T050133
DESCRIPTION:Die Berliner feiern gern. Je größer die Veranstaltung, desto besser. Gelegenheiten hatten sie dazu in den vergangenen Jahrzehnten reichlich. Immer wieder lockten ungewöhnliche Veranstaltungen die Menschen zu hunderttausenden auf die Straßen und Plätze der Hauptstadt.\n
SUMMARY:Die 30 tollsten Berliner Spektakel
END:VEVENT
END:VCALENDAR
