BEGIN:VCALENDAR
X-WR-TIMEZONE:Europe/Berlin
X-WR-CALNAME:rbb-Kalender
VERSION:2.0
METHOD:PUBLISH
CALSCALE:GREGORIAN
PRODID:rbb-CMS DAY
BEGIN:VEVENT
CLASS:PUBLIC
URL:http://www.rbb-online.de/content/rbb/rbb/30favoriten/archiv/die_schoensten_brandenburger0/die_30_tollsten_berliner.html
DTEND:20130927T201500
DTSTART:20130927T201500
UID:/content/rbb/rbb/30favoriten/archiv/die_schoensten_brandenburger0/die_30_tollsten_berliner
DTSTAMP:20140405T050031
DESCRIPTION:Nicht an allem herrscht bekanntlich Überfluss in Brandenburg, doch mit ihren Seen sind die Märker besonders reich gesegnet. Rund 3 000 sind es. Die kleineren unter einem Hektar hinzu gerechnet sogar 10 000. Damit gehört Brandenburg zu den gewässerreichsten Ländern der Bundesrepublik.\n\n\n
SUMMARY:Die schönsten Brandenburger Seen
END:VEVENT
END:VCALENDAR
