BEGIN:VCALENDAR
X-WR-TIMEZONE:Europe/Berlin
X-WR-CALNAME:rbb-Kalender
VERSION:2.0
METHOD:PUBLISH
CALSCALE:GREGORIAN
PRODID:rbb-CMS DAY
BEGIN:VEVENT
CLASS:PUBLIC
URL:http://www.rbb-online.de/content/rbb/rbb/30favoriten/archiv/die_schoensten_parks/parks-gaerten.html
DTEND:20140418T132500
DTSTART:20140418T132500
UID:/content/rbb/rbb/30favoriten/archiv/die_schoensten_parks/parks-gaerten
DTSTAMP:20140405T045452
DESCRIPTION:Die Sehnsucht nach dem Idyll war zu allen Zeiten groß und schon vor 150 Jahren schrieb Theodor Fontane: "Ich bin die Mark durchzogen und habe sie reicher gefunden, als ich zu hoffen gewagt hätte."\n
SUMMARY:Die schönsten Parks und Gärten
END:VEVENT
END:VCALENDAR
