BEGIN:VCALENDAR
X-WR-TIMEZONE:Europe/Berlin
X-WR-CALNAME:rbb-Kalender
VERSION:2.0
METHOD:PUBLISH
CALSCALE:GREGORIAN
PRODID:rbb-CMS DAY
BEGIN:VEVENT
CLASS:PUBLIC
URL:http://www.rbb-online.de/content/rbb/rbb/30favoriten/archiv/die_tollsten_popstars/Die_30_tollsten_Popstars_der_Siebziger_XXL.html
DTEND:20140124T201500
DTSTART:20140124T201500
UID:/content/rbb/rbb/30favoriten/archiv/die_tollsten_popstars/Die_30_tollsten_Popstars_der_Siebziger_XXL
DTSTAMP:20140405T053635
DESCRIPTION:In Sachen Popmusik waren die Siebziger Jahre ein turbulentes Jahrzehnt. Die Stars, die sich in den Top Ten der deutschen Charts tummelten, klangen musikalisch nicht nur unterschiedlich, sie sahen auch sehr verschieden aus.\n
SUMMARY:Die 30 tollsten Popstars der Siebziger XXL
END:VEVENT
END:VCALENDAR
