BEGIN:VCALENDAR
X-WR-TIMEZONE:Europe/Berlin
X-WR-CALNAME:rbb-Kalender
VERSION:2.0
METHOD:PUBLISH
CALSCALE:GREGORIAN
PRODID:rbb-CMS DAY
BEGIN:VEVENT
CLASS:PUBLIC
URL:http://www.rbb-online.de/content/rbb/rbb/abendschau/7plus/die-sonntagsfrage.html
DTEND:20140330T200000
DTSTART:20140330T193000
UID:/content/rbb/rbb/abendschau/7plus/die-sonntagsfrage
DTSTAMP:20140404T151557
DESCRIPTION:Ab kommenden Sonntag läuft die neue Serie "Die Sonntagsfrage". Unsere Reporter begeben sich auf die Suche nach Antworten zu Berliner Themen, die uns beschäftigen. Schicken Sie uns Ihre Fragen, die wir beantworten sollen!\n\n\n
SUMMARY:Die Sonntagsfrage
END:VEVENT
END:VCALENDAR
