BEGIN:VCALENDAR
X-WR-TIMEZONE:Europe/Berlin
X-WR-CALNAME:rbb-Kalender
VERSION:2.0
METHOD:PUBLISH
CALSCALE:GREGORIAN
PRODID:rbb-CMS DAY
BEGIN:VEVENT
CLASS:PUBLIC
URL:http://www.rbb-online.de/content/rbb/rbb/abendschau/7plus/zerstoerte-vielfalt-ursula-mamlok.html
DTEND:20131104T200000
DTSTART:20131104T193000
UID:/content/rbb/rbb/abendschau/7plus/zerstoerte-vielfalt-ursula-mamlok
DTSTAMP:20140407T073815
DESCRIPTION:Ursula Mamlok wurde 1923 in Berlin geboren. Wegen der Verfolgung durch die Nationalsozialisten musste sie zusammen mit ihrer Familie im Jahr 1939 Deutschland verlassen und ins Exil in das ecuadorianische Guayaquil gehen.\n\n\n
SUMMARY:Die Komponistin Ursula Mamlok
END:VEVENT
END:VCALENDAR
