BEGIN:VCALENDAR
X-WR-TIMEZONE:Europe/Berlin
X-WR-CALNAME:rbb-Kalender
VERSION:2.0
METHOD:PUBLISH
CALSCALE:GREGORIAN
PRODID:rbb-CMS DAY
BEGIN:VEVENT
CLASS:PUBLIC
URL:http://www.rbb-online.de/content/rbb/rbb/abendschau/archiv/20140328_1930/kritik-am-doppelpass-kompromiss.html
DTEND:20140328T200000
DTSTART:20140328T193000
UID:/content/rbb/rbb/abendschau/archiv/20140328_1930/kritik-am-doppelpass-kompromiss
DTSTAMP:20140404T145320
DESCRIPTION:Der Kompromiss der Großen Koalition zum Doppelpass stößt auf Kritik. Die Opposition bezeichnete den Gesetzentwurf zur doppelten Staatsbürgerschaft als halbherzig. Wie wird der Entwurf unter Berliner Migranten aufgenommen? Die Abendschau hat nachgefragt.\n\n\n
SUMMARY:Kritik am Doppelpass-Kompromiss
END:VEVENT
END:VCALENDAR
