BEGIN:VCALENDAR
X-WR-TIMEZONE:Europe/Berlin
X-WR-CALNAME:rbb-Kalender
VERSION:2.0
METHOD:PUBLISH
CALSCALE:GREGORIAN
PRODID:rbb-CMS DAY
BEGIN:VEVENT
CLASS:PUBLIC
URL:http://www.rbb-online.de/content/rbb/rbb/abendschau/archiv/20140329_1930.html
DTEND:20140329T200000
DTSTART:20140329T193000
UID:/content/rbb/rbb/abendschau/archiv/20140329_1930
DTSTAMP:20140404T150552
DESCRIPTION:+++ Berliner Grüne beraten über Tempelhof +++ BER-Inbetriebnahme könnte sich weiter verzögern +++ Kiki Blofeld zieht nach Oberschöneweide +++ Benefiz-Aktion im Autocenter +++ Winevibes im Postbahnhof +++ Gleich nebenan: Zoohandlung ohne Sommerzeit +++\n\n\n
SUMMARY:Abendschau vom 29.03.2014
END:VEVENT
END:VCALENDAR
