BEGIN:VCALENDAR
X-WR-TIMEZONE:Europe/Berlin
X-WR-CALNAME:rbb-Kalender
VERSION:2.0
METHOD:PUBLISH
CALSCALE:GREGORIAN
PRODID:rbb-CMS DAY
BEGIN:VEVENT
CLASS:PUBLIC
URL:http://www.rbb-online.de/content/rbb/rbb/abendschau/archiv/20140329_1930/neue-heimat-fuer-kiki-blofeld.html
DTEND:20140329T200000
DTSTART:20140329T193000
UID:/content/rbb/rbb/abendschau/archiv/20140329_1930/neue-heimat-fuer-kiki-blofeld
DTSTAMP:20140404T151603
DESCRIPTION:Die bekannte Strandbar "Kiki Blofeld", bis vor zweieinhalb Jahren noch am Spreeufer an der Köpenicker Strasse, feiert Auferstehung in Oberschöneweide. Am 23. Mai wird der neue Clubgarten eröffnet. Ein entsprechender Vertrag wurde bereits unterzeichnet. \n\n\n
SUMMARY:Neue Heimat fürs "Kiki Blofeld"
END:VEVENT
END:VCALENDAR
