BEGIN:VCALENDAR
X-WR-TIMEZONE:Europe/Berlin
X-WR-CALNAME:rbb-Kalender
VERSION:2.0
METHOD:PUBLISH
CALSCALE:GREGORIAN
PRODID:rbb-CMS DAY
BEGIN:VEVENT
CLASS:PUBLIC
URL:http://www.rbb-online.de/content/rbb/rbb/abendschau/archiv/20140330_1930/achim-freyer-feiert-80-geburtstag.html
DTEND:20140330T200000
DTSTART:20140330T193000
UID:/content/rbb/rbb/abendschau/archiv/20140330_1930/achim-freyer-feiert-80-geburtstag
DTSTAMP:20140404T145747
DESCRIPTION:Der Brecht-Schüler, Grafiker und Maler Achim Freyer feiert seinen 80. Geburtstag. Aus diesem Anlass öffnet er seine mit Kunst gefüllte Gründerzeitvilla: 2000 Werke von 80 Künstlern sind bis Ende November hier zu sehen.\n\n\n
SUMMARY:Achim Freyer feiert 80. Geburtstag
END:VEVENT
END:VCALENDAR
