BEGIN:VCALENDAR
X-WR-TIMEZONE:Europe/Berlin
X-WR-CALNAME:rbb-Kalender
VERSION:2.0
METHOD:PUBLISH
CALSCALE:GREGORIAN
PRODID:rbb-CMS DAY
BEGIN:VEVENT
CLASS:PUBLIC
URL:http://www.rbb-online.de/content/rbb/rbb/abendschau/archiv/20140330_1930/nachrichten-zwei.html
DTEND:20140330T200000
DTSTART:20140330T193000
UID:/content/rbb/rbb/abendschau/archiv/20140330_1930/nachrichten-zwei
DTSTAMP:20140404T145442
DESCRIPTION:+++ Unbekannte haben in einer Tiefgarage in der Klixstraße in Reinickendorf Feuer gelegt +++ Demo gegen Rassismus +++\n\n\n
SUMMARY:Nachrichten II
END:VEVENT
END:VCALENDAR
