BEGIN:VCALENDAR
X-WR-TIMEZONE:Europe/Berlin
X-WR-CALNAME:rbb-Kalender
VERSION:2.0
METHOD:PUBLISH
CALSCALE:GREGORIAN
PRODID:rbb-CMS DAY
BEGIN:VEVENT
CLASS:PUBLIC
URL:http://www.rbb-online.de/content/rbb/rbb/abendschau/archiv/20140330_1930/rolle-rueckwaerts-zu-besuch-in-ostberlin.html
DTEND:20140330T200000
DTSTART:20140330T193000
UID:/content/rbb/rbb/abendschau/archiv/20140330_1930/rolle-rueckwaerts-zu-besuch-in-ostberlin
DTSTAMP:20140404T145229
DESCRIPTION:Ost-Berlin mit den Augen des West-Berliners betrachtet - das ging erst nach dem Viermächte-Abkommen von 1971. Auch die Abendschau war erstaunt, was sich so seit den fünfziger Jahren "drüben" so alles getan hatte und hatte touristische Tips für ihre Zuschauer parat.\n\n\n
SUMMARY:Rolle Rückwärts: Zu Besuch in Ost-Berlin
END:VEVENT
END:VCALENDAR
