BEGIN:VCALENDAR
X-WR-TIMEZONE:Europe/Berlin
X-WR-CALNAME:rbb-Kalender
VERSION:2.0
METHOD:PUBLISH
CALSCALE:GREGORIAN
PRODID:rbb-CMS DAY
BEGIN:VEVENT
CLASS:PUBLIC
URL:http://www.rbb-online.de/content/rbb/rbb/abendschau/archiv/20140331_1930/bnd.html
DTEND:20140331T200000
DTSTART:20140331T193000
UID:/content/rbb/rbb/abendschau/archiv/20140331_1930/bnd
DTSTAMP:20140404T152104
DESCRIPTION:Am Montag haben die ersten Mitarbeiter des Bundesnachrichtendiensts ihre Arbeit in der neuen Zentrale in Berlin aufgenommen. Den 174 Beschäftigten sollen in den kommenden Jahren weitere 4000 Kollegen aus Pullach und BND-Nebenstellen folgen.\n
SUMMARY:Erste BND-Mitarbeiter beziehen neue Zentrale
END:VEVENT
END:VCALENDAR
