BEGIN:VCALENDAR
X-WR-TIMEZONE:Europe/Berlin
X-WR-CALNAME:rbb-Kalender
VERSION:2.0
METHOD:PUBLISH
CALSCALE:GREGORIAN
PRODID:rbb-CMS DAY
BEGIN:VEVENT
CLASS:PUBLIC
URL:http://www.rbb-online.de/content/rbb/rbb/abendschau/archiv/20140331_1930/china.html
DTEND:20140331T200000
DTSTART:20140331T193000
UID:/content/rbb/rbb/abendschau/archiv/20140331_1930/china
DTSTAMP:20140404T145533
DESCRIPTION:Die Städtepartnerschaft mit der chinesischen Hauptstadt feiert in diesem Jahr ihr 20. Jubiläum. In unserer Wochenserie fragen wir: Wo lebt Peking in Berlin? Los geht’s mit Chinesischunterricht an Berliner Schulen.\n\n\n
SUMMARY:Neue Wochenserie: Berlin - Peking  
END:VEVENT
END:VCALENDAR
