BEGIN:VCALENDAR
X-WR-TIMEZONE:Europe/Berlin
X-WR-CALNAME:rbb-Kalender
VERSION:2.0
METHOD:PUBLISH
CALSCALE:GREGORIAN
PRODID:rbb-CMS DAY
BEGIN:VEVENT
CLASS:PUBLIC
URL:http://www.rbb-online.de/content/rbb/rbb/abendschau/archiv/20140331_1930/zwei.html
DTEND:20140331T200000
DTSTART:20140331T193000
UID:/content/rbb/rbb/abendschau/archiv/20140331_1930/zwei
DTSTAMP:20140404T150715
DESCRIPTION:+++ Berliner Auszubildende im Öffentlichen Dienst haben vor Beginn der Tarifverhandlungen in Potsdam für ihre Belange demonstriert +++ Der neue Chef von Zoo und Tierpark, Andreas Knieriem, tritt morgen sein Amt an +++ \n\n\n
SUMMARY:Nachrichten II
END:VEVENT
END:VCALENDAR
