BEGIN:VCALENDAR
X-WR-TIMEZONE:Europe/Berlin
X-WR-CALNAME:rbb-Kalender
VERSION:2.0
METHOD:PUBLISH
CALSCALE:GREGORIAN
PRODID:rbb-CMS DAY
BEGIN:VEVENT
CLASS:PUBLIC
URL:http://www.rbb-online.de/content/rbb/rbb/abendschau/archiv/20140401_1930.html
DTEND:20140401T200000
DTSTART:20140401T193000
UID:/content/rbb/rbb/abendschau/archiv/20140401_1930
DTSTAMP:20140404T145325
DESCRIPTION:Flüchtlinge vom Oranienplatz uneins +++ Vor dem Lufthansa-Streik +++ Nachrichten +++ Tarifeinigung Öffentlicher Dienst +++ Umzugschaos Rathaus Wilmersdorf +++ Politik gegen Rechts +++ Wirtschaft Berlin - Peking +++ Moderation: Sascha Hingst\n\n\n
SUMMARY:Abendschau vom 01.04.2014
END:VEVENT
END:VCALENDAR
