BEGIN:VCALENDAR
X-WR-TIMEZONE:Europe/Berlin
X-WR-CALNAME:rbb-Kalender
VERSION:2.0
METHOD:PUBLISH
CALSCALE:GREGORIAN
PRODID:rbb-CMS DAY
BEGIN:VEVENT
CLASS:PUBLIC
URL:http://www.rbb-online.de/content/rbb/rbb/abendschau/archiv/20140401_1930/nachrichten1.html
DTEND:20140401T200000
DTSTART:20140401T193000
UID:/content/rbb/rbb/abendschau/archiv/20140401_1930/nachrichten1
DTSTAMP:20140404T145640
DESCRIPTION:BER-Flughafenchef Mehdorn kündigt dem Bereichsleiter Real-Estate, Harald Siegle, fristlos +++ Polizei versucht tödliches S-Bahn-Unglück aufzuklären +++ Zahl der erwerbslosen Berliner geht weiter zurück +++\n\n\n
SUMMARY:Nachrichten I
END:VEVENT
END:VCALENDAR
