BEGIN:VCALENDAR
X-WR-TIMEZONE:Europe/Berlin
X-WR-CALNAME:rbb-Kalender
VERSION:2.0
METHOD:PUBLISH
CALSCALE:GREGORIAN
PRODID:rbb-CMS DAY
BEGIN:VEVENT
CLASS:PUBLIC
URL:http://www.rbb-online.de/content/rbb/rbb/abendschau/archiv/20140401_1930/tarifverhandlungen.html
DTEND:20140401T200000
DTSTART:20140401T193000
UID:/content/rbb/rbb/abendschau/archiv/20140401_1930/tarifverhandlungen
DTSTAMP:20140404T150052
DESCRIPTION:Arbeitgeber und Gewerkschaften des öffentlichen Dienstes haben sich in Potsdam auf mehr Geld für die 2,1 Millionen Beschäftigten geeinigt. In diesem Jahr steigen die Gehälter um drei Prozent, mindestens jedoch um 90 Euro und ab März 2015 um weitere 2,4 Prozent.\n
SUMMARY:Lohnerhöhungen im öffentlichen Dienst
END:VEVENT
END:VCALENDAR
