BEGIN:VCALENDAR
X-WR-TIMEZONE:Europe/Berlin
X-WR-CALNAME:rbb-Kalender
VERSION:2.0
METHOD:PUBLISH
CALSCALE:GREGORIAN
PRODID:rbb-CMS DAY
BEGIN:VEVENT
CLASS:PUBLIC
URL:http://www.rbb-online.de/content/rbb/rbb/abendschau/archiv/20140402_1930/Ai_weiwei_im_gropius_bau.html
DTEND:20140402T200000
DTSTART:20140402T193000
UID:/content/rbb/rbb/abendschau/archiv/20140402_1930/Ai_weiwei_im_gropius_bau
DTSTAMP:20140404T145348
DESCRIPTION:Es soll seine weltweit größte Einzelausstellung werden. Auf 3.000 Quadratmetern in 18 Räumen und im spektakulären Lichthof zeigt der chinesische Künstler Ai Weiwei Werke und Installationen, die eigens für den Martin-Gropius-Bau entstanden sind bzw. noch nie in Deutschland gezeigt wurden. \n\n\n
SUMMARY:Berlin – Peking: Ai Weiwei im Gropius-Bau
END:VEVENT
END:VCALENDAR
