BEGIN:VCALENDAR
X-WR-TIMEZONE:Europe/Berlin
X-WR-CALNAME:rbb-Kalender
VERSION:2.0
METHOD:PUBLISH
CALSCALE:GREGORIAN
PRODID:rbb-CMS DAY
BEGIN:VEVENT
CLASS:PUBLIC
URL:http://www.rbb-online.de/content/rbb/rbb/abendschau/archiv/20140404_1930/banker.html
DTEND:20140404T200000
DTSTART:20140404T193000
UID:/content/rbb/rbb/abendschau/archiv/20140404_1930/banker
DTSTAMP:20140407T231025
DESCRIPTION:Banken sind vom Vertrauen ihrer Kunden abhängig. Dass dieses Vertrauen in Beratungsgesprächen häufig missbraucht wird, zeigen Tests der Stiftung Warentest. \n\n\n
SUMMARY:Beratungstricks der Banker 
END:VEVENT
END:VCALENDAR
