BEGIN:VCALENDAR
X-WR-TIMEZONE:Europe/Berlin
X-WR-CALNAME:rbb-Kalender
VERSION:2.0
METHOD:PUBLISH
CALSCALE:GREGORIAN
PRODID:rbb-CMS DAY
BEGIN:VEVENT
CLASS:PUBLIC
URL:http://www.rbb-online.de/content/rbb/rbb/abendschau/archiv/20140404_1930/nachrichten.html
DTEND:20140404T200000
DTSTART:20140404T193000
UID:/content/rbb/rbb/abendschau/archiv/20140404_1930/nachrichten
DTSTAMP:20140407T231041
DESCRIPTION:+++ Die Frühjahrssynode der Evangelischen Kirche hat überraschend ihre Zustimmung für die Verlängerung der Dienstzeit von Konsistorialpräsident Seelemann verweigerte +++ Bildungssenatorin Scheeres will um Lehrer in Bayern, Nordrhein-Westfalen und Baden-Württemberg werben +++  \n
SUMMARY:Nachrichten I
END:VEVENT
END:VCALENDAR
