BEGIN:VCALENDAR
X-WR-TIMEZONE:Europe/Berlin
X-WR-CALNAME:rbb-Kalender
VERSION:2.0
METHOD:PUBLISH
CALSCALE:GREGORIAN
PRODID:rbb-CMS DAY
BEGIN:VEVENT
CLASS:PUBLIC
URL:http://www.rbb-online.de/content/rbb/rbb/abendschau/archiv/20140405_1930.html
DTEND:20140405T200000
DTSTART:20140405T193000
UID:/content/rbb/rbb/abendschau/archiv/20140405_1930
DTSTAMP:20140407T114011
DESCRIPTION:Messerstecherei in Kreuzberg +++ Landesparteitag der Linken +++ Neues Gutachten zu Schmitz-Affäre +++  Ton Steine Scherben Live +++ Verbrecher Verlag bekommt Kurt Wolff-Preis +++ Serie: Berlin-Peking +++ Gleich nebenan: Märchenwaffel\n
SUMMARY:Abendschau 05.04.2014 19:30
END:VEVENT
END:VCALENDAR
