BEGIN:VCALENDAR
X-WR-TIMEZONE:Europe/Berlin
X-WR-CALNAME:rbb-Kalender
VERSION:2.0
METHOD:PUBLISH
CALSCALE:GREGORIAN
PRODID:rbb-CMS DAY
BEGIN:VEVENT
CLASS:PUBLIC
URL:http://www.rbb-online.de/content/rbb/rbb/abendschau/archiv/20140405_1930/gutachten-schmitz.html
DTEND:20140405T200000
DTSTART:20140405T193000
UID:/content/rbb/rbb/abendschau/archiv/20140405_1930/gutachten-schmitz
DTSTAMP:20140408T052644
DESCRIPTION:Die Steueraffäre um Ex-Kulturstaatssekretär Schmitz geht in die zweite Runde. Ein von den Grünen beim vom Wissenschaftlichen Parlamentardienst des Abgeordnetenhauses in Auftrag gegebenes neues Gutachten belastet den Regierenden Bürgermeister.\n
SUMMARY:Neues Gutachten zu Schmitz-Affäre 
END:VEVENT
END:VCALENDAR
