BEGIN:VCALENDAR
X-WR-TIMEZONE:Europe/Berlin
X-WR-CALNAME:rbb-Kalender
VERSION:2.0
METHOD:PUBLISH
CALSCALE:GREGORIAN
PRODID:rbb-CMS DAY
BEGIN:VEVENT
CLASS:PUBLIC
URL:http://www.rbb-online.de/content/rbb/rbb/abendschau/archiv/20140405_1930/scherben.html
DTEND:20140405T200000
DTSTART:20140405T193000
UID:/content/rbb/rbb/abendschau/archiv/20140405_1930/scherben
DTSTAMP:20140408T052732
DESCRIPTION:Zum ersten Mal seit 1985 gibt die Berliner Kultband ein Konzert in der verbliebenen Originalbesetzung. Die Abendschau hat die Stimmung vor dem Gig im Heimathafen Neukölln eingefangen.\n\n\n
SUMMARY:Ton Steine Scherben Live 
END:VEVENT
END:VCALENDAR
