BEGIN:VCALENDAR
X-WR-TIMEZONE:Europe/Berlin
X-WR-CALNAME:rbb-Kalender
VERSION:2.0
METHOD:PUBLISH
CALSCALE:GREGORIAN
PRODID:rbb-CMS DAY
BEGIN:VEVENT
CLASS:PUBLIC
URL:http://www.rbb-online.de/content/rbb/rbb/abendschau/archiv/20140406_1930/saisoneroeffnung-hoppegarten.html
DTEND:20140406T200000
DTSTART:20140406T193000
UID:/content/rbb/rbb/abendschau/archiv/20140406_1930/saisoneroeffnung-hoppegarten
DTSTAMP:20140408T085448
DESCRIPTION:Mit einem Programm für große und kleine Natur- und Tierfreunde hat die Galopprennbahn Hoppegarten am Sonntag die Saison eröffnet. Die Abendschau hat sich das bunte Treiben vor Ort angeschaut.\n\n\n
SUMMARY:Saisoneröffnung in Hoppegarten
END:VEVENT
END:VCALENDAR
