BEGIN:VCALENDAR
X-WR-TIMEZONE:Europe/Berlin
X-WR-CALNAME:rbb-Kalender
VERSION:2.0
METHOD:PUBLISH
CALSCALE:GREGORIAN
PRODID:rbb-CMS DAY
BEGIN:VEVENT
CLASS:PUBLIC
URL:http://www.rbb-online.de/content/rbb/rbb/abendschau/archiv/20140407_1930/hilfe-gegen-hautkrebs.html
DTEND:20140407T200000
DTSTART:20140407T193000
UID:/content/rbb/rbb/abendschau/archiv/20140407_1930/hilfe-gegen-hautkrebs
DTSTAMP:20140408T085016
DESCRIPTION:Jedes Jahr erkranken 200.000 Menschen in Deutschland an Hautkrebs. Anlässlich des Weltgesundheitstages widmen wir uns neuen Erkenntnissen zur häufigsten Krebsart: Macht Hautkrebsscreening Sinn? Welche neuen Medikamente gibt es? Können Apps die Gefahren der Sonne einschätzen?\n\n\n
SUMMARY:Hilfe gegen Hautkrebs
END:VEVENT
END:VCALENDAR
