BEGIN:VCALENDAR
X-WR-TIMEZONE:Europe/Berlin
X-WR-CALNAME:rbb-Kalender
VERSION:2.0
METHOD:PUBLISH
CALSCALE:GREGORIAN
PRODID:rbb-CMS DAY
BEGIN:VEVENT
CLASS:PUBLIC
URL:http://www.rbb-online.de/content/rbb/rbb/abendschau/archiv/20140407_1930/schwarz-kaempft-um-entgangenes-gehalt.html
DTEND:20140407T200000
DTSTART:20140407T193000
UID:/content/rbb/rbb/abendschau/archiv/20140407_1930/schwarz-kaempft-um-entgangenes-gehalt
DTSTAMP:20140408T084925
DESCRIPTION:Der ehemalige Berliner Flughafenchef Rainer Schwarz will außerhalb des Gerichtssaals mit der Flughafengesellschaft über seine Gehaltsforderungen verhandeln. Zuvor müsse im Aufsichtsrat aber geprüft werden, ob ein Vergleich überhaupt möglich sei, sagte ein Vertreter des Flughafens am Montag im Berliner Landgericht.\n\n\n
SUMMARY:Schwarz kämpft um entgangenes Gehalt
END:VEVENT
END:VCALENDAR
