BEGIN:VCALENDAR
X-WR-TIMEZONE:Europe/Berlin
X-WR-CALNAME:rbb-Kalender
VERSION:2.0
METHOD:PUBLISH
CALSCALE:GREGORIAN
PRODID:rbb-CMS DAY
BEGIN:VEVENT
CLASS:PUBLIC
URL:http://www.rbb-online.de/content/rbb/rbb/abendschau/archiv/20140407_1930/zukunft-in-der-gegenwart.html
DTEND:20140407T200000
DTSTART:20140407T193000
UID:/content/rbb/rbb/abendschau/archiv/20140407_1930/zukunft-in-der-gegenwart
DTSTAMP:20140408T085036
DESCRIPTION:In unserer Serie präsentieren wir Projekte aus Berlin oder von Berlinern, die sich nach Zukunft anhören, die es aber in der Gegenwart tatsächlich schon gibt. Wir besuchen Entwickler, Firmen und Macher - und zeigen, wieviel Zukunft in der Gegenwart steckt. In der ersten Folge stellen wir eine sprechende Wecker-App für Smartphones vor.\n\n\n
SUMMARY:Die Zukunft in der Gegenwart
END:VEVENT
END:VCALENDAR
