BEGIN:VCALENDAR
X-WR-TIMEZONE:Europe/Berlin
X-WR-CALNAME:rbb-Kalender
VERSION:2.0
METHOD:PUBLISH
CALSCALE:GREGORIAN
PRODID:rbb-CMS DAY
BEGIN:VEVENT
CLASS:PUBLIC
URL:http://www.rbb-online.de/content/rbb/rbb/abendschau/archiv/20140408_1930.html
DTEND:20140408T200000
DTSTART:20140408T193000
UID:/content/rbb/rbb/abendschau/archiv/20140408_1930
DTSTAMP:20140409T004137
DESCRIPTION:Randale am Oranienplatz nach Abzug der Flüchtlinge +++ Prozess um Mord in Westend +++ Auf der Baustelle des BER +++ Welches ICC-Konzept macht das Rennen? +++ BMW eröffnet neue Hauptstadtniederlassung +++ Bronzeengel kehrt zurück +++ Serie: Die Zukunft in der Gegenwart +++ Moderation: Cathrin Böhme\n
SUMMARY:Abendschau 08.04.2014 19:30
END:VEVENT
END:VCALENDAR
