BEGIN:VCALENDAR
X-WR-TIMEZONE:Europe/Berlin
X-WR-CALNAME:rbb-Kalender
VERSION:2.0
METHOD:PUBLISH
CALSCALE:GREGORIAN
PRODID:rbb-CMS DAY
BEGIN:VEVENT
CLASS:PUBLIC
URL:http://www.rbb-online.de/content/rbb/rbb/abendschau/archiv/20140408_1930/ber.html
DTEND:20140408T200000
DTSTART:20140408T193000
UID:/content/rbb/rbb/abendschau/archiv/20140408_1930/ber
DTSTAMP:20140409T004250
DESCRIPTION:Die ordnungsgemäße Funktion der Entrauchungsanlage am neuen Flughafen BER ist noch immer das größte Problem – neben all den anderen Mängeln, die sich quer durch das Bauprojekt ziehen. Nun soll bekanntlich die Firma Siemens Abhilfe schaffen\n\n\n\n\n
SUMMARY:Auf der Baustelle des BER 
END:VEVENT
END:VCALENDAR
