BEGIN:VCALENDAR
X-WR-TIMEZONE:Europe/Berlin
X-WR-CALNAME:rbb-Kalender
VERSION:2.0
METHOD:PUBLISH
CALSCALE:GREGORIAN
PRODID:rbb-CMS DAY
BEGIN:VEVENT
CLASS:PUBLIC
URL:http://www.rbb-online.de/content/rbb/rbb/abendschau/archiv/20140408_1930/engel-der-gnade-dom.html
DTEND:20140408T200000
DTSTART:20140408T193000
UID:/content/rbb/rbb/abendschau/archiv/20140408_1930/engel-der-gnade-dom
DTSTAMP:20140409T004323
DESCRIPTION:Auf den Berliner Dom ist am Dienstag ein rund fünf Meter großer Bronzeengel zurückgekehrt. Die etwa eine Tonne schwere Figur namens „Gnade“ war seit Sommer 2013 restauriert worden. \n\n\n
SUMMARY:Bronzeengel kehrt zurück 
END:VEVENT
END:VCALENDAR
