BEGIN:VCALENDAR
X-WR-TIMEZONE:Europe/Berlin
X-WR-CALNAME:rbb-Kalender
VERSION:2.0
METHOD:PUBLISH
CALSCALE:GREGORIAN
PRODID:rbb-CMS DAY
BEGIN:VEVENT
CLASS:PUBLIC
URL:http://www.rbb-online.de/content/rbb/rbb/abendschau/archiv/20140408_1930/oranienplatz.html
DTEND:20140408T200000
DTSTART:20140408T193000
UID:/content/rbb/rbb/abendschau/archiv/20140408_1930/oranienplatz
DTSTAMP:20140409T004309
DESCRIPTION:Nach dem Abbau der meisten Hütten des Flüchtlingscamps am Oranienplatz ist es in Kreuzberg zu Auseinandersetzungen gekommen Etwa 120 linke Aktivisten haben mehrfach einen Zaun umgerissen, den das Bezirksamt um das Gelände aufgebaut hat, um die Grünanlage wieder herstellen zu können.\n
SUMMARY:Randale am Oranienplatz nach Abzug der Flüchtlinge
END:VEVENT
END:VCALENDAR
