BEGIN:VCALENDAR
X-WR-TIMEZONE:Europe/Berlin
X-WR-CALNAME:rbb-Kalender
VERSION:2.0
METHOD:PUBLISH
CALSCALE:GREGORIAN
PRODID:rbb-CMS DAY
BEGIN:VEVENT
CLASS:PUBLIC
URL:http://www.rbb-online.de/content/rbb/rbb/abendschau/ausflugstipps/beitraege/ausflug-odertal.html
DTEND:20140404T200000
DTSTART:20140404T193000
UID:/content/rbb/rbb/abendschau/ausflugstipps/beitraege/ausflug-odertal
DTSTAMP:20140407T103359
DESCRIPTION:Nordöstlich von Berlin findet sich der Nationalpark Unteres Odertal. Vom 5. bis 13. April wird dort ein vielfältiges Programm geboten. Anni Dunkelmann hat sich für den Ausflugstipp mit einem Ranger umgesehen.\n\n\n
SUMMARY:Flussauenwoche im Unteren Odertal 
END:VEVENT
END:VCALENDAR
