BEGIN:VCALENDAR
X-WR-TIMEZONE:Europe/Berlin
X-WR-CALNAME:rbb-Kalender
VERSION:2.0
METHOD:PUBLISH
CALSCALE:GREGORIAN
PRODID:rbb-CMS DAY
BEGIN:VEVENT
CLASS:PUBLIC
URL:http://www.rbb-online.de/content/rbb/rbb/abendschau/ausflugstipps/beitraege/ausflug.html
DTEND:20140321T200000
DTSTART:20140321T193000
UID:/content/rbb/rbb/abendschau/ausflugstipps/beitraege/ausflug
DTSTAMP:20140404T145303
DESCRIPTION:Unser Ausflugstipp der Woche führt zur ehemals größten beweglichen Arbeitsmaschine der Welt: Die Braunkohle-Förderbücke F60 in der Lausitz ist 502 Meter lang und wird auch als „Liegender Eiffelturm der Lausitz“ bezeichnet.\n
SUMMARY:Ausflugstipp: Besucherbergwerk F60 
END:VEVENT
END:VCALENDAR
