BEGIN:VCALENDAR
X-WR-TIMEZONE:Europe/Berlin
X-WR-CALNAME:rbb-Kalender
VERSION:2.0
METHOD:PUBLISH
CALSCALE:GREGORIAN
PRODID:rbb-CMS DAY
BEGIN:VEVENT
CLASS:PUBLIC
URL:http://www.rbb-online.de/content/rbb/rbb/abendschau/ausflugstipps/beitraege/badsaarow.html
DTEND:20131227T200000
DTSTART:20131227T193000
UID:/content/rbb/rbb/abendschau/ausflugstipps/beitraege/badsaarow
DTSTAMP:20140405T094641
DESCRIPTION:Es kann so einfach - faul sein und entspannen. Zum Beispiel im Thermalbad Bad Saarow. Aus 450 Meter Tiefe wird heilendes Wasser in die Entspannungsbecken gepumpt und dort auf angenehme 34 Grad erwärmt. Aber auch sonst gibt es viel zu erleben in Bad Saarow.\n\n\n\n\n\n\n
SUMMARY:Ausflugstipp: Bad Saarow
END:VEVENT
END:VCALENDAR
