BEGIN:VCALENDAR
X-WR-TIMEZONE:Europe/Berlin
X-WR-CALNAME:rbb-Kalender
VERSION:2.0
METHOD:PUBLISH
CALSCALE:GREGORIAN
PRODID:rbb-CMS DAY
BEGIN:VEVENT
CLASS:PUBLIC
URL:http://www.rbb-online.de/content/rbb/rbb/abendschau/ausflugstipps/beitraege/baekemuehle-kleinmachnow.html
DTEND:20140103T200000
DTSTART:20140103T193000
UID:/content/rbb/rbb/abendschau/ausflugstipps/beitraege/baekemuehle-kleinmachnow
DTSTAMP:20140405T094920
DESCRIPTION:Benannt nach der Bäke, die ursprünglich von Steglitz bis zum Griebnitzsee floss, gehörte die einstige Wassermühle aus dem 17. Jahrhundert zum Gutsbesitz der Familie von Hake. Zu DDR-Zeiten sollte die Mühle 1979 gesprengt werden, was engagierte Anwohner von Kleinmachnow jedoch erfolgreich verhinderten.\n
SUMMARY:In der Bäkemühle in Kleinmachnow
END:VEVENT
END:VCALENDAR
