BEGIN:VCALENDAR
X-WR-TIMEZONE:Europe/Berlin
X-WR-CALNAME:rbb-Kalender
VERSION:2.0
METHOD:PUBLISH
CALSCALE:GREGORIAN
PRODID:rbb-CMS DAY
BEGIN:VEVENT
CLASS:PUBLIC
URL:http://www.rbb-online.de/content/rbb/rbb/abendschau/ausflugstipps/beitraege/bauerngarten_havelmathen.html
DTEND:20130719T193000
DTSTART:20130719T193000
UID:/content/rbb/rbb/abendschau/ausflugstipps/beitraege/bauerngarten_havelmathen
DTSTAMP:20140406T110436
DESCRIPTION:Ursprünglich stellte der Bauerngarten ein historisches Konzept zur Selbstversorgung von Bauernfamilien dar. Angepasst an die aktuellen Erfordernisse moderner Lebensräume vollzieht der Garten einen Wandel zum urbanen Gemeinschaftsprojekt.
SUMMARY:Bauerngarten Havelmathen
END:VEVENT
END:VCALENDAR
