BEGIN:VCALENDAR
X-WR-TIMEZONE:Europe/Berlin
X-WR-CALNAME:rbb-Kalender
VERSION:2.0
METHOD:PUBLISH
CALSCALE:GREGORIAN
PRODID:rbb-CMS DAY
BEGIN:VEVENT
CLASS:PUBLIC
URL:http://www.rbb-online.de/content/rbb/rbb/abendschau/ausflugstipps/beitraege/blankensee.html
DTEND:20130426T193000
DTSTART:20130426T193000
UID:/content/rbb/rbb/abendschau/ausflugstipps/beitraege/blankensee
DTSTAMP:20140406T110243
DESCRIPTION:Blankensee bei Trebbin: Ein Dorf im Landkreis Teltow-Fläming, das Preise holte. Die Abendschau hat sich vor Ort umgeschaut und die schönsten Sehenswürdigkeiten zusammengestellt.\n
SUMMARY:Blankensee
END:VEVENT
END:VCALENDAR
