BEGIN:VCALENDAR
X-WR-TIMEZONE:Europe/Berlin
X-WR-CALNAME:rbb-Kalender
VERSION:2.0
METHOD:PUBLISH
CALSCALE:GREGORIAN
PRODID:rbb-CMS DAY
BEGIN:VEVENT
CLASS:PUBLIC
URL:http://www.rbb-online.de/content/rbb/rbb/abendschau/ausflugstipps/beitraege/buckow-in-der-maerkischen-schweiz.html
DTEND:20140110T200000
DTSTART:20140110T193000
UID:/content/rbb/rbb/abendschau/ausflugstipps/beitraege/buckow-in-der-maerkischen-schweiz
DTSTAMP:20140405T094909
DESCRIPTION:Buckow in der Märkischen Schweiz ist ein anerkannter Kneipp-Kurort. Wer jetzt nur an Wassertreten mit nackten Füßen denkt, irrt. Zur Kneippschen Kur gehören neben dem Wasser auch gute Ernährung, Kräuter, Bewegung und Entspannung dazu.\n
SUMMARY:Buckow in der Märkischen Schweiz	
END:VEVENT
END:VCALENDAR
