BEGIN:VCALENDAR
X-WR-TIMEZONE:Europe/Berlin
X-WR-CALNAME:rbb-Kalender
VERSION:2.0
METHOD:PUBLISH
CALSCALE:GREGORIAN
PRODID:rbb-CMS DAY
BEGIN:VEVENT
CLASS:PUBLIC
URL:http://www.rbb-online.de/content/rbb/rbb/abendschau/ausflugstipps/beitraege/karower-teiche.html
DTEND:20130920T200000
DTSTART:20130920T193000
UID:/content/rbb/rbb/abendschau/ausflugstipps/beitraege/karower-teiche
DTSTAMP:20140405T095940
DESCRIPTION:Die Alt- Karower haben ihr Dorf ganz schön herausgeputzt und die Häuser, die vorwiegend Ende des neunzehnten Jahrhunderts entstanden sind, wieder flott gemacht. Viel steht hier unter Denkmalschutz.\n
SUMMARY:Zu den Karower Teichen in Alt-Karow
END:VEVENT
END:VCALENDAR
