BEGIN:VCALENDAR
X-WR-TIMEZONE:Europe/Berlin
X-WR-CALNAME:rbb-Kalender
VERSION:2.0
METHOD:PUBLISH
CALSCALE:GREGORIAN
PRODID:rbb-CMS DAY
BEGIN:VEVENT
CLASS:PUBLIC
URL:http://www.rbb-online.de/content/rbb/rbb/abendschau/ausflugstipps/beitraege/kinderbauernhof-pinke-panke-in-pankow.html
DTEND:20140214T200000
DTSTART:20140214T193000
UID:/content/rbb/rbb/abendschau/ausflugstipps/beitraege/kinderbauernhof-pinke-panke-in-pankow
DTSTAMP:20140405T095124
DESCRIPTION:Experimentieren, spielen und dabei jede Menge Spaß haben – das steht auf dem Kinderbauernhof Pinke-Panke im Mittelpunkt. Der offen pädagogisch betreute Spielplatz richtet sich vor allem an Kinder ab sieben Jahren und liegt direkt am Bürgerpark in Pankow.\n
SUMMARY:Kinderbauernhof "Pinke-Panke" in Pankow	
END:VEVENT
END:VCALENDAR
