BEGIN:VCALENDAR
X-WR-TIMEZONE:Europe/Berlin
X-WR-CALNAME:rbb-Kalender
VERSION:2.0
METHOD:PUBLISH
CALSCALE:GREGORIAN
PRODID:rbb-CMS DAY
BEGIN:VEVENT
CLASS:PUBLIC
URL:http://www.rbb-online.de/content/rbb/rbb/abendschau/ausflugstipps/beitraege/kunst_im_gruenen.html
DTEND:20130607T193000
DTSTART:20130607T193000
UID:/content/rbb/rbb/abendschau/ausflugstipps/beitraege/kunst_im_gruenen
DTSTAMP:20140406T110527
DESCRIPTION:Zu einem sommerlichen Spaziergang durch den Landschaftspark in Dahlwitz-Hoppegarten laden an den kommenden drei Wochenenden 16 Künstlerinnen aus Berlin und Brandenburg ein.\n
SUMMARY:Kunst im Grünen
END:VEVENT
END:VCALENDAR
