BEGIN:VCALENDAR
X-WR-TIMEZONE:Europe/Berlin
X-WR-CALNAME:rbb-Kalender
VERSION:2.0
METHOD:PUBLISH
CALSCALE:GREGORIAN
PRODID:rbb-CMS DAY
BEGIN:VEVENT
CLASS:PUBLIC
URL:http://www.rbb-online.de/content/rbb/rbb/abendschau/ausflugstipps/beitraege/literarisches-in-der-dorfkirche-radensleben.html
DTEND:20140307T200000
DTSTART:20140307T193000
UID:/content/rbb/rbb/abendschau/ausflugstipps/beitraege/literarisches-in-der-dorfkirche-radensleben
DTSTAMP:20140405T095103
DESCRIPTION:Berliner Künstler lesen in Brandenburger Dorfkirchen. Das ist die Idee einer Veranstaltungsreihe, von der literaturbegeisterte Städter wie ländliche Gemeinden gleichermaßen profitieren sollen. Am Sonntag liest Schauspieler Hagen Löwe aus Fontane in Radensleben.\n
SUMMARY:Literarisches in der Dorfkirche Radensleben
END:VEVENT
END:VCALENDAR
