BEGIN:VCALENDAR
X-WR-TIMEZONE:Europe/Berlin
X-WR-CALNAME:rbb-Kalender
VERSION:2.0
METHOD:PUBLISH
CALSCALE:GREGORIAN
PRODID:rbb-CMS DAY
BEGIN:VEVENT
CLASS:PUBLIC
URL:http://www.rbb-online.de/content/rbb/rbb/abendschau/ausflugstipps/beitraege/mit_dem_e_bike_durch.html
DTEND:20130524T193000
DTSTART:20130524T193000
UID:/content/rbb/rbb/abendschau/ausflugstipps/beitraege/mit_dem_e_bike_durch
DTSTAMP:20140406T110415
DESCRIPTION:In dieser Woche sind wir mit dem Elektro-Fahrrad unterwegs. Der Weg führt von Prieros über die Schleuse in Hermsdorf Mühle zum Forsthaus nach Hammer, weiter nach Märkisch Buchholz und wieder zurück zum Ausgangspunkt.\n
SUMMARY:Mit dem E-Bike auf dem Dahme-Radweg
END:VEVENT
END:VCALENDAR
